BEGIN:VCALENDAR
VERSION:2.0
PRODID:-//Sutton Courtenay Parish Council//Meeting Calendar//EN
CALSCALE:GREGORIAN
METHOD:PUBLISH
BEGIN:VEVENT
UID:71667-20251007@suttoncourtenay-pc.gov.uk
DTSTAMP:20260421T193308Z
DTSTART;VALUE=DATE:20251007
DTEND;VALUE=DATE:20251008
SUMMARY:Full Council Meeting &#8211\\; 7 October 2025
DESCRIPTION:Full Council Meeting\nView details: https://suttoncourtenay-pc.gov.uk/meetings/full-council-meeting-7-october-2025/
URL:https://suttoncourtenay-pc.gov.uk/meetings/full-council-meeting-7-october-2025/
END:VEVENT
END:VCALENDAR
