BEGIN:VCALENDAR
VERSION:2.0
PRODID:-//Sutton Courtenay Parish Council//Meeting Calendar//EN
CALSCALE:GREGORIAN
METHOD:PUBLISH
BEGIN:VEVENT
UID:71534-20251104@suttoncourtenay-pc.gov.uk
DTSTAMP:20260421T213439Z
DTSTART;VALUE=DATE:20251104
DTEND;VALUE=DATE:20251105
SUMMARY:Full Council Meeting – 4 November 2025
DESCRIPTION:Full Council Meeting\nView details: https://suttoncourtenay-pc.gov.uk/meetings/full-council-meeting-4-november-2025/
URL:https://suttoncourtenay-pc.gov.uk/meetings/full-council-meeting-4-november-2025/
END:VEVENT
END:VCALENDAR
