BEGIN:VCALENDAR
VERSION:2.0
PRODID:-//Sutton Courtenay Parish Council//Meeting Calendar//EN
CALSCALE:GREGORIAN
METHOD:PUBLISH
BEGIN:VEVENT
UID:71530-20250603@suttoncourtenay-pc.gov.uk
DTSTAMP:20260421T145309Z
DTSTART;VALUE=DATE:20250603
DTEND;VALUE=DATE:20250604
SUMMARY:Full Council Meeting – 3 June 2025
DESCRIPTION:Full Council Meeting\nView details: https://suttoncourtenay-pc.gov.uk/meetings/full-council-meeting-3-june-2025/
URL:https://suttoncourtenay-pc.gov.uk/meetings/full-council-meeting-3-june-2025/
END:VEVENT
END:VCALENDAR
