BEGIN:VCALENDAR
VERSION:2.0
PRODID:-//Sutton Courtenay Parish Council//Meeting Calendar//EN
CALSCALE:GREGORIAN
METHOD:PUBLISH
BEGIN:VEVENT
UID:71466-20240109@suttoncourtenay-pc.gov.uk
DTSTAMP:20260421T083957Z
DTSTART;VALUE=DATE:20240109
DTEND;VALUE=DATE:20240110
SUMMARY:Full Council Meeting – 9 January 2024
DESCRIPTION:Full Council Meeting\nView details: https://suttoncourtenay-pc.gov.uk/meetings/full-council-meeting-9-january-2024/
URL:https://suttoncourtenay-pc.gov.uk/meetings/full-council-meeting-9-january-2024/
END:VEVENT
END:VCALENDAR
