BEGIN:VCALENDAR
VERSION:2.0
PRODID:-//Sutton Courtenay Parish Council//Meeting Calendar//EN
CALSCALE:GREGORIAN
METHOD:PUBLISH
BEGIN:VEVENT
UID:70875-20250506@suttoncourtenay-pc.gov.uk
DTSTAMP:20260421T131346Z
DTSTART;VALUE=DATE:20250506
DTEND;VALUE=DATE:20250507
SUMMARY:Annual &#038\\; Full Council Meeting &#8211\\; 6th May 2025
DESCRIPTION:Full Council Meeting\nView details: https://suttoncourtenay-pc.gov.uk/meetings/annual-full-council-meeting-6th-may-2025/
URL:https://suttoncourtenay-pc.gov.uk/meetings/annual-full-council-meeting-6th-may-2025/
END:VEVENT
END:VCALENDAR
