BEGIN:VCALENDAR
VERSION:2.0
PRODID:-//Sutton Courtenay Parish Council//Meeting Calendar//EN
CALSCALE:GREGORIAN
METHOD:PUBLISH
BEGIN:VEVENT
UID:70873-20250401@suttoncourtenay-pc.gov.uk
DTSTAMP:20260421T113303Z
DTSTART;VALUE=DATE:20250401
DTEND;VALUE=DATE:20250402
SUMMARY:Full Council Meeting – 1st April 2025
DESCRIPTION:Full Council Meeting\nView details: https://suttoncourtenay-pc.gov.uk/meetings/full-council-meeting-1st-april-2025/
URL:https://suttoncourtenay-pc.gov.uk/meetings/full-council-meeting-1st-april-2025/
END:VEVENT
END:VCALENDAR
