BEGIN:VCALENDAR
VERSION:2.0
PRODID:-//Sutton Courtenay Parish Council//Meeting Calendar//EN
CALSCALE:GREGORIAN
METHOD:PUBLISH
BEGIN:VEVENT
UID:70872-20250304@suttoncourtenay-pc.gov.uk
DTSTAMP:20260421T095520Z
DTSTART;VALUE=DATE:20250304
DTEND;VALUE=DATE:20250305
SUMMARY:Full Council Meeting – 4th March 2025
DESCRIPTION:Full Council Meeting\nView details: https://suttoncourtenay-pc.gov.uk/meetings/full-council-meeting-4th-march-2025/
URL:https://suttoncourtenay-pc.gov.uk/meetings/full-council-meeting-4th-march-2025/
END:VEVENT
END:VCALENDAR
