BEGIN:VCALENDAR
VERSION:2.0
PRODID:-//Sutton Courtenay Parish Council//Meeting Calendar//EN
CALSCALE:GREGORIAN
METHOD:PUBLISH
BEGIN:VEVENT
UID:70871-20250204@suttoncourtenay-pc.gov.uk
DTSTAMP:20260421T082803Z
DTSTART;VALUE=DATE:20250204
DTEND;VALUE=DATE:20250205
SUMMARY:Full Council Meeting – 4th February 2025
DESCRIPTION:Full Council Meeting\nView details: https://suttoncourtenay-pc.gov.uk/meetings/full-council-meeting-4th-february-2025/
URL:https://suttoncourtenay-pc.gov.uk/meetings/full-council-meeting-4th-february-2025/
END:VEVENT
END:VCALENDAR
