BEGIN:VCALENDAR
VERSION:2.0
PRODID:-//Sutton Courtenay Parish Council//Meeting Calendar//EN
CALSCALE:GREGORIAN
METHOD:PUBLISH
BEGIN:VEVENT
UID:70559-20241106@suttoncourtenay-pc.gov.uk
DTSTAMP:20260421T100854Z
DTSTART;VALUE=DATE:20241106
DTEND;VALUE=DATE:20241107
SUMMARY:Full Council Meeting &#8211\\; 5 November 2024
DESCRIPTION:Full Council Meeting\nView details: https://suttoncourtenay-pc.gov.uk/meetings/full-council-meeting-5-november-2024-2/
URL:https://suttoncourtenay-pc.gov.uk/meetings/full-council-meeting-5-november-2024-2/
END:VEVENT
END:VCALENDAR
