BEGIN:VCALENDAR
VERSION:2.0
PRODID:-//Sutton Courtenay Parish Council//Meeting Calendar//EN
CALSCALE:GREGORIAN
METHOD:PUBLISH
BEGIN:VEVENT
UID:70525-20240507@suttoncourtenay-pc.gov.uk
DTSTAMP:20260421T084727Z
DTSTART;VALUE=DATE:20240507
DTEND;VALUE=DATE:20240508
SUMMARY:Annual &#038\\; Full Council Meeting &#8211\\; 7 May 2024
DESCRIPTION:Full Council Meeting\nView details: https://suttoncourtenay-pc.gov.uk/meetings/annual-meeting-7-may-2024/
URL:https://suttoncourtenay-pc.gov.uk/meetings/annual-meeting-7-may-2024/
END:VEVENT
END:VCALENDAR
